Workbook

Sheet ROSTER
D1: 2026-2027 TYRA
D7: Contestant | F7: Division | H7: Compete @ 6 Rodeos | I7: Raffle Tickets | J7: FINALS BOUND
C8: {=ROW(A1)} -> 1 | D8: Addi Kate Morris | F8: 46150
C9: {=ROW(A2)} -> 2 | D9: Addy McKinnis | F9: 46150
C10: {=ROW(A3)} -> 3 | D10: Adilyn Brown | F10: 46150
C11: {=ROW(A4)} -> 4 | D11: Battle Hamrick | F11: 46150
C12: {=ROW(A5)} -> 5 | D12: Charlee Kayte Smith | F12: K-4
C13: {=ROW(A6)} -> 6 | D13: Conner Smith | F13: K-4
C14: {=ROW(A7)} -> 7 | D14: Cullen Clouse | F14: K-4
C15: {=ROW(A8)} -> 8 | D15: Easton Sanders | F15: K-4
C16: {=ROW(A9)} -> 9 | D16: Fisher Ann Rinehart | F16: 46150
C17: {=ROW(A10)} -> 10 | D17: Gracie Layne Draffin | F17: 46150
C18: {=ROW(A11)} -> 11 | D18: Gus Moore | F18: K-4
C19: {=ROW(A12)} -> 12 | D19: Halle Pete Rinehart | F19: K-4
C20: {=ROW(A13)} -> 13 | D20: Harper Butler | F20: 46150
C21: {=ROW(A14)} -> 14 | D21: Jase Lepard | F21: 46150
C22: {=ROW(A15)} -> 15 | D22: Jewel Hayse | F22: 46150
C23: {=ROW(A16)} -> 16 | D23: Kennedy Hastings | F23: 46150
C24: {=ROW(A17)} -> 17 | D24: Kinsleigh Hopper | F24: K-4
C25: {=ROW(A18)} -> 18 | D25: Kix Ross | F25: 46150
C26: {=ROW(A19)} -> 19 | D26: Kori Jane Moore | F26: 46150
C27: {=ROW(A20)} -> 20 | D27: Lane Clouse | F27: 46150
C28: {=ROW(A21)} -> 21 | D28: Layney Butler | F28: 46150
C29: {=ROW(A22)} -> 22 | D29: LB Friskillo | F29: 46150
C30: {=ROW(A23)} -> 23 | D30: Macee Ponds | F30: 46150
C31: {=ROW(A24)} -> 24 | D31: Maddie Rose Locke | F31: 46150
C32: {=ROW(A25)} -> 25 | D32: Piper Massey | F32: 46150
C33: {=ROW(A26)} -> 26 | D33: Ryder Millington | F33: 46150
C34: {=ROW(A27)} -> 27 | D34: Slayten Twisdale | F34: K-4
C35: {=ROW(A28)} -> 28 | D35: Sterling Twisdale | F35: 46150
C36: {=ROW(A29)} -> 29
C37: {=ROW(A30)} -> 30
C38: {=ROW(A31)} -> 31
C39: {=ROW(A32)} -> 32
C40: {=ROW(A33)} -> 33
C41: {=ROW(A34)} -> 34
C42: {=ROW(A35)} -> 35
C43: {=ROW(A36)} -> 36
C44: {=ROW(A37)} -> 37
C45: {=ROW(A38)} -> 38

Sheet K-4
A1: K-4 | D1: Total Points
F2: Halls, TN | J2: Halls, TN | N2: Holly Springs, MS | R2: Holly Springs, MS | V2: Como, MS | Z2: Como, MS | AD2: Mason, TN | AH2: Mason, TN | AL2: Decaturville, TN | AP2: Decaturville, TN | AT2: Decaturville, TN | AX2: Decaturville, TN | BB2: Guys, TN | BF2: Guys, TN | BJ2: Selmer, TN | BN2: Selmer, TN
F3: 8/8/2026 AM | J3: 8/8/2026 PM | N3: 9/26/2026 AM | R3: 9/26/2026 PM | V3: 10/17/2026 AM | Z3: 10/17/2026 PM | AD3: 11/21/2026 AM | AH3: 11/21/2026 PM | AL3: 2/19/2024 AM | AP3: 2/19/2024 PM | AT3: 03/02/2024 AM | AX3: 03/02/2024 PM | BB3: 04/06/2024 AM | BF3: 04/06/2024 PM
BQ4: PP | BR4: AVG
A5: Steer Bareback Riding | F5: SCORE | G5: EVENT POINTS | H5: PP | J5: SCORE | K5: EVENT POINTS | L5: PP | N5: SCORE | O5: EVENT POINTS | P5: PP | R5: SCORE | S5: EVENT POINTS | T5: PP | V5: SCORE | W5: EVENT POINTS | X5: PP | Z5: SCORE | AA5: EVENT POINTS | AB5: PP | AD5: SCORE | AE5: EVENT POINTS | AF5: PP | AH5: SCORE | AI5: EVENT POINTS | AJ5: PP | AL5: SCORE | AM5: EVENT POINTS | AN5: PP | AP5: SCORE | AQ5: EVENT POINTS | AR5: PP | AT5: SCORE | AU5: EVENT POINTS | AV5: PP | AX5: SCORE | AY5: EVENT POINTS | AZ5: PP | BB5: SCORE | BC5: EVENT POINTS | BD5: PP | BF5: SCORE | BG5: EVENT POINTS | BH5: PP | BJ5: SCORE | BK5: EVENT POINTS | BL5: PP | BN5: SCORE | BO5: EVENT POINTS | BP5: PP
A6: 1 | B6: Gus | C6: Moore | D6: {=SUM(G6,K6,O6,S6,W6,AA6,AE6,AI6,AM6,AQ6,AU6,AY6,BC6,BG6,BK6,BO6,BQ6)} -> 22 | F6: 70 | G6: 10 | H6: 1 | J6: 80 | K6: 10 | L6: 1 | BQ6: {=SUM(H6,L6,P6,T6,X6,AB6,AF6,AJ6,AN6,AR6,AV6,AZ6,BD6,BH6,BL6,BP6)} -> 2
A7: 2 | B7: Conner | C7: Smith | D7: {=G7+H7+K7+L7} -> 2 | F7: 0 | G7: 0 | H7: 1 | J7: 0 | K7: 0 | L7: 1
A8: EVENT TOTALS | D8: {=SUM(D6,D7)} -> 24 | G8: {=G7+G6} -> 10 | H8: {=H7+H6} -> 2 | K8: {=SUM(K6)+K7} -> 10 | L8: {=SUM(L6)+L7} -> 2 | O8: {=SUM(O6)} -> 0 | P8: {=SUM(P6)} -> 0 | S8: {=SUM(S6)} -> 0 | T8: {=SUM(T6)} -> 0 | W8: {=SUM(W6)} -> 0 | X8: {=SUM(X6)} -> 0 | AA8: {=SUM(AA6)} -> 0 | AB8: {=SUM(AB6)} -> 0 | AE8: {=SUM(AE6)} -> 0 | AF8: {=SUM(AF6)} -> 0 | AI8: {=SUM(AI6)} -> 0 | AJ8: {=SUM(AJ6)} -> 0 | AM8: {=SUM(AM6)} -> 0 | AN8: {=SUM(AN6)} -> 0 | AQ8: {=SUM(AQ6)} -> 0 | AR8: {=SUM(AR6)} -> 0 | AU8: {=SUM(AU6)} -> 0 | AV8: {=SUM(AV6)} -> 0 | AY8: {=SUM(AY6)} -> 0 | AZ8: {=SUM(AZ6)} -> 0 | BC8: {=SUM(BC6)} -> 0 | BD8: {=SUM(BD6)} -> 0 | BG8: {=SUM(BG6)} -> 0 | BH8: {=SUM(BH6)} -> 0 | BK8: {=SUM(BK6)} -> 0 | BL8: {=SUM(BL6)} -> 0 | BO8: {=SUM(BO6)} -> 0 | BP8: {=SUM(BP6)} -> 0
A10: Saddle Steer Riding | F10: TIME | G10: EVENT POINTS | H10: PP | J10: TIME | K10: EVENT POINTS | L10: PP | N10: TIME | O10: EVENT POINTS | P10: PP | R10: TIME | S10: EVENT POINTS | T10: PP | V10: TIME | W10: EVENT POINTS | X10: PP | Z10: TIME | AA10: EVENT POINTS | AB10: PP | AD10: TIME | AE10: EVENT POINTS | AF10: PP | AH10: TIME | AI10: EVENT POINTS | AJ10: PP | AL10: TIME | AM10: EVENT POINTS | AN10: PP | AP10: TIME | AQ10: EVENT POINTS | AR10: PP | AT10: TIME | AU10: EVENT POINTS | AV10: PP | AX10: TIME | AY10: EVENT POINTS | AZ10: PP | BB10: TIME | BC10: EVENT POINTS | BD10: PP | BF10: TIME | BG10: EVENT POINTS | BH10: PP | BJ10: TIME | BK10: EVENT POINTS | BL10: PP | BN10: TIME | BO10: EVENT POINTS | BP10: PP
A11: {=ROW(A1)} -> 1 | B11: Gus | C11: Moore | D11: {=SUM(G11,K11,O11,S11,W11,AA11,AE11,AI11,AM11,AQ11,AU11,AY11,BC11,BG11,BK11,BO11,BQ11)} -> 12 | F11: 0 | G11: 0 | H11: 1 | J11: 80 | K11: 10 | L11: 1 | BQ11: {=SUM(H11,L11,P11,T11,X11,AB11,AF11,AJ11,AN11,AR11,AV11,AZ11,BD11,BH11,BL11,BP11)} -> 2 | BR11: {=AVERAGE(F11,J11,N11,R11,V11,Z11,AD11,AH11,AL11,AP11,AT11,AX11,BB11,BF11,BJ11,BN11)} -> 40
A12: {=ROW(A2)} -> 2 | D12: {=SUM(G12,K12,O12,S12,W12,AA12,AE12,AI12,AM12,AQ12,AU12,AY12,BC12,BG12,BK12,BO12,BQ12)} -> 0 | BQ12: {=SUM(H12,L12,P12,T12,X12,AB12,AF12,AJ12,AN12,AR12,AV12,AZ12,BD12,BH12,BL12,BP12)} -> 0 | BR12: {=AVERAGE(F12,J12,N12,R12,V12,Z12,AD12,AH12,AL12,AP12,AT12,AX12,BB12,BF12,BJ12,BN12)} -> #DIV/0!
A13: EVENT TOTALS | D13: {=SUM(D11:D12)} -> 12 | G13: {=SUM(G11:G12)} -> 0 | H13: {=SUM(H11:H12)} -> 1 | K13: {=SUM(K11:K12)} -> 10 | L13: {=SUM(L11:L12)} -> 1 | O13: {=SUM(O11:O12)} -> 0 | P13: {=SUM(P11:P12)} -> 0 | S13: {=SUM(S11:S12)} -> 0 | T13: {=SUM(T11:T12)} -> 0 | W13: {=SUM(W11:W12)} -> 0 | X13: {=SUM(X11:X12)} -> 0 | AA13: {=SUM(AA11:AA12)} -> 0 | AB13: {=SUM(AB11:AB12)} -> 0 | AE13: {=SUM(AE11:AE12)} -> 0 | AF13: {=SUM(AF11:AF12)} -> 0 | AI13: {=SUM(AI11:AI12)} -> 0 | AJ13: {=SUM(AJ11:AJ12)} -> 0 | AM13: {=SUM(AM11:AM12)} -> 0 | AN13: {=SUM(AN11:AN12)} -> 0 | AQ13: {=SUM(AQ11:AQ12)} -> 0 | AR13: {=SUM(AR11:AR12)} -> 0 | AU13: {=SUM(AU11:AU12)} -> 0 | AV13: {=SUM(AV11:AV12)} -> 0 | AY13: {=SUM(AY11:AY12)} -> 0 | AZ13: {=SUM(AZ11:AZ12)} -> 0 | BC13: {=SUM(BC11:BC12)} -> 0 | BD13: {=SUM(BD11:BD12)} -> 0 | BG13: {=SUM(BG11:BG12)} -> 0 | BH13: {=SUM(BH11:BH12)} -> 0 | BK13: {=SUM(BK11:BK12)} -> 0 | BL13: {=SUM(BL11:BL12)} -> 0 | BO13: {=SUM(BO11:BO12)} -> 0 | BP13: {=SUM(BP11:BP12)} -> 0
A15: Boys Breakaway Roping | F15: TIME | G15: EVENT POINTS | H15: PP | J15: TIME | K15: EVENT POINTS | L15: PP | N15: TIME | O15: EVENT POINTS | P15: PP | R15: TIME | S15: EVENT POINTS | T15: PP | V15: TIME | W15: EVENT POINTS | X15: PP | Z15: TIME | AA15: EVENT POINTS | AB15: PP | AD15: TIME | AE15: EVENT POINTS | AF15: PP | AH15: TIME | AI15: EVENT POINTS | AJ15: PP | AL15: TIME | AM15: EVENT POINTS | AN15: PP | AP15: TIME | AQ15: EVENT POINTS | AR15: PP | AT15: TIME | AU15: EVENT POINTS | AV15: PP | AX15: TIME | AY15: EVENT POINTS | AZ15: PP | BB15: TIME | BC15: EVENT POINTS | BD15: PP | BF15: TIME | BG15: EVENT POINTS | BH15: PP | BJ15: TIME | BK15: EVENT POINTS | BL15: PP | BN15: TIME | BO15: EVENT POINTS | BP15: PP
A16: {=ROW(A1)} -> 1 | B16: Gus | C16: Moore | D16: {=SUM(G16,K16,O16,S16,W16,AA16,AE16,AI16,AM16,AQ16,AU16,AY16,BC16,BG16,BK16,BO16,BQ16)} -> 2 | F16: 0 | G16: 0 | H16: 1 | J16: 0 | K16: 0 | L16: 1 | BQ16: {=SUM(H16,L16,P16,T16,X16,AB16,AF16,AJ16,AN16,AR16,AV16,AZ16,BD16,BH16,BL16,BP16)} -> 2 | BR16: {=AVERAGE(F16,J16,N16,R16,V16,Z16,AD16,AH16,AL16,AP16,AT16,AX16,BB16,BF16,BJ16,BN16)} -> 0
A17: {=ROW(A2)} -> 2 | B17: Conner | C17: Smith | D17: {=SUM(G17,K17,O17,S17,W17,AA17,AE17,AI17,AM17,AQ17,AU17,AY17,BC17,BG17,BK17,BO17,BQ17)} -> 1 | F17: 0 | G17: 0 | H17: 1 | BQ17: {=SUM(H17,L17,P17,T17,X17,AB17,AF17,AJ17,AN17,AR17,AV17,AZ17,BD17,BH17,BL17,BP17)} -> 1 | BR17: {=AVERAGE(F17,J17,N17,R17,V17,Z17,AD17,AH17,AL17,AP17,AT17,AX17,BB17,BF17,BJ17,BN17)} -> 0
A18: {=ROW(A3)} -> 3 | D18: {=SUM(G18,K18,O18,S18,W18,AA18,AE18,AI18,AM18,AQ18,AU18,AY18,BC18,BG18,BK18,BO18,BQ18)} -> 0 | BQ18: {=SUM(H18,L18,P18,T18,X18,AB18,AF18,AJ18,AN18,AR18,AV18,AZ18,BD18,BH18,BL18,BP18)} -> 0 | BR18: {=AVERAGE(F18,J18,N18,R18,V18,Z18,AD18,AH18,AL18,AP18,AT18,AX18,BB18,BF18,BJ18,BN18)} -> #DIV/0!
A19: EVENT TOTALS | D19: {=SUM(D16:D18)} -> 3 | G19: {=SUM(G16:G18)} -> 0 | H19: {=SUM(H16:H18)} -> 2 | K19: {=SUM(K16:K18)} -> 0 | L19: {=SUM(L16:L18)} -> 1 | W19: {=SUM(W16:W18)} -> 0 | X19: {=SUM(X16:X18)} -> 0 | AA19: {=SUM(AA16:AA18)} -> 0 | AB19: {=SUM(AB16:AB18)} -> 0 | AE19: {=SUM(AE16:AE18)} -> 0 | AF19: {=SUM(AF16:AF18)} -> 0 | AI19: {=SUM(AI16:AI18)} -> 0 | AJ19: {=SUM(AJ16:AJ18)} -> 0 | AM19: {=SUM(AM16:AM18)} -> 0 | AN19: {=SUM(AN16:AN18)} -> 0 | AQ19: {=SUM(AQ16:AQ18)} -> 0 | AR19: {=SUM(AR16:AR18)} -> 0 | AU19: {=SUM(AU16:AU18)} -> 0 | AV19: {=SUM(AV16:AV18)} -> 0 | AY19: {=SUM(AY16:AY18)} -> 0 | AZ19: {=SUM(AZ16:AZ18)} -> 0 | BC19: {=SUM(BC16:BC18)} -> 0 | BD19: {=SUM(BD16:BD18)} -> 0 | BG19: {=SUM(BG16:BG18)} -> 0 | BH19: {=SUM(BH16:BH18)} -> 0 | BK19: {=SUM(BK16:BK18)} -> 0 | BL19: {=SUM(BL16:BL18)} -> 0 | BO19: {=SUM(BO16:BO18)} -> 0 | BP19: {=SUM(BP16:BP18)} -> 0 | BQ19: {=SUM(H19,L19,P19,T19,X19,AB19,AF19,AJ19,AN19,AR19,AV19,AZ19,BD19,BH19,BL19,BP19)} -> 3
A21: Chute Dogging | F21: TIME | G21: EVENT POINTS | H21: PP | J21: TIME | K21: EVENT POINTS | L21: PP | N21: TIME | O21: EVENT POINTS | P21: PP | R21: TIME | S21: EVENT POINTS | T21: PP | V21: TIME | W21: EVENT POINTS | X21: PP | Z21: TIME | AA21: EVENT POINTS | AB21: PP | AD21: TIME | AE21: EVENT POINTS | AF21: PP | AH21: TIME | AI21: EVENT POINTS | AJ21: PP | AL21: TIME | AM21: EVENT POINTS | AN21: PP | AP21: TIME | AQ21: EVENT POINTS | AR21: PP | AT21: TIME | AU21: EVENT POINTS | AV21: PP | AX21: TIME | AY21: EVENT POINTS | AZ21: PP | BB21: TIME | BC21: EVENT POINTS | BD21: PP | BF21: TIME | BG21: EVENT POINTS | BH21: PP | BJ21: TIME | BK21: EVENT POINTS | BL21: PP | BN21: TIME | BO21: EVENT POINTS | BP21: PP
A22: 1 | B22: Easton | C22: Sanders | D22: {=G22+K22+H22+L22} -> 12 | F22: 0 | G22: 0 | H22: 1 | J22: 10.03 | K22: 10 | L22: 1 | BQ22: {=SUM(H22,L22,P22,T22,X22,AB22,AF22,AJ22,AN22,AR22,AV22,AZ22,BD22,BH22,BL22,BP22)} -> 2 | BR22: {=AVERAGE(F22,J22,N22,R22,V22,Z22,AD22,AH22,AL22,AP22,AT22,AX22,BB22,BF22,BJ22,BN22)} -> 5.015
A23: 2 | B23: Cullen | C23: Clouse | D23: {=G23+K23+H23+L23} -> 2 | F23: 0 | G23: 0 | H23: 1 | J23: 0 | K23: 0 | L23: 1 | BQ23: {=SUM(H23,L23,P23,T23,X23,AB23,AF23,AJ23,AN23,AR23,AV23,AZ23,BD23,BH23,BL23,BP23)} -> 2 | BR23: {=AVERAGE(F23,J23,N23,R23,V23,Z23,AD23,AH23,AL23,AP23,AT23,AX23,BB23,BF23,BJ23,BN23)} -> 0
A24: {=ROW(A3)} -> 3 | B24: Gus | C24: Moore | D24: {=SUM(G24,K24,O24,S24,W24,AA24,AE24,AI24,AM24,AQ24,AU24,AY24,BC24,BG24,BK24,BO24,BQ24)} -> 2 | F24: 0 | G24: 0 | H24: 1 | J24: 0 | K24: 0 | L24: 1 | BQ24: {=SUM(H24,L24,P24,T24,X24,AB24,AF24,AJ24,AN24,AR24,AV24,AZ24,BD24,BH24,BL24,BP24)} -> 2 | BR24: {=AVERAGE(F24,J24,N24,R24,V24,Z24,AD24,AH24,AL24,AP24,AT24,AX24,BB24,BF24,BJ24,BN24)} -> 0
A25: 4 | B25: Conner | C25: Smith | D25: {=G25+K25+H25+L25} -> 2 | F25: 0 | G25: 0 | H25: 1 | J25: 0 | K25: 0 | L25: 1 | BQ25: {=SUM(H25,L25,P25,T25,X25,AB25,AF25,AJ25,AN25,AR25,AV25,AZ25,BD25,BH25,BL25,BP25)} -> 2 | BR25: {=AVERAGE(F25,J25,N25,R25,V25,Z25,AD25,AH25,AL25,AP25,AT25,AX25,BB25,BF25,BJ25,BN25)} -> 0
A26: EVENT TOTALS | D26: {=SUM(D22:D25)} -> 18 | G26: {=SUM(G22:G25)} -> 0 | H26: {=SUM(H22:H25)} -> 4 | K26: {=SUM(K22:K25)} -> 10 | L26: {=SUM(L22:L25)} -> 4 | O26: {=SUM(O22:O25)} -> 0 | P26: {=SUM(P22:P25)} -> 0 | S26: {=SUM(S22:S25)} -> 0 | T26: {=SUM(T22:T25)} -> 0 | W26: {=SUM(W22:W25)} -> 0 | X26: {=SUM(X22:X25)} -> 0 | AA26: {=SUM(AA22:AA25)} -> 0 | AB26: {=SUM(AB22:AB25)} -> 0 | AE26: {=SUM(AE22:AE25)} -> 0 | AF26: {=SUM(AF22:AF25)} -> 0 | AI26: {=SUM(AI22:AI25)} -> 0 | AJ26: {=SUM(AJ22:AJ25)} -> 0 | AM26: {=SUM(AM22:AM25)} -> 0 | AN26: {=SUM(AN22:AN25)} -> 0 | AQ26: {=SUM(AQ22:AQ25)} -> 0 | AR26: {=SUM(AR22:AR25)} -> 0 | AU26: {=SUM(AU22:AU25)} -> 0 | AV26: {=SUM(AV22:AV25)} -> 0 | AY26: {=SUM(AY22:AY25)} -> 0 | AZ26: {=SUM(AZ22:AZ25)} -> 0 | BC26: {=SUM(BC22:BC25)} -> 0 | BD26: {=SUM(BD22:BD25)} -> 0 | BG26: {=SUM(BG22:BG25)} -> 0 | BH26: {=SUM(BH22:BH25)} -> 0 | BK26: {=SUM(BK22:BK25)} -> 0 | BL26: {=SUM(BL22:BL25)} -> 0 | BO26: {=SUM(BO22:BO25)} -> 0 | BP26: {=SUM(BP22:BP25)} -> 0
A28: Barrel Racing | F28: TIME | G28: EVENT POINTS | H28: PP | J28: TIME | K28: EVENT POINTS | L28: PP | N28: TIME | O28: EVENT POINTS | P28: PP | R28: TIME | S28: EVENT POINTS | T28: PP | V28: TIME | W28: EVENT POINTS | X28: PP | Z28: TIME | AA28: EVENT POINTS | AB28: PP | AD28: TIME | AE28: EVENT POINTS | AF28: PP | AH28: TIME | AI28: EVENT POINTS | AJ28: PP | AL28: TIME | AM28: EVENT POINTS | AN28: PP | AP28: TIME | AQ28: EVENT POINTS | AR28: PP | AT28: TIME | AU28: EVENT POINTS | AV28: PP | AX28: TIME | AY28: EVENT POINTS | AZ28: PP | BB28: TIME | BC28: EVENT POINTS | BD28: PP | BF28: TIME | BG28: EVENT POINTS | BH28: PP | BJ28: TIME | BK28: EVENT POINTS | BL28: PP | BN28: TIME | BO28: EVENT POINTS | BP28: PP
A29: {=ROW(A1)} -> 1 | B29: Charlee Kayte | C29: Smith | D29: {=SUM(G29,K29,O29,S29,W29,AA29,AE29,AI29,AM29,AQ29,AU29,AY29,BC29,BG29,BK29,BO29,BQ29)} -> 19 | F29: 20.278 | G29: 9 | H29: 1 | J29: 21.338 | K29: 8 | L29: 1 | BQ29: {=SUM(H29,L29,P29,T29,X29,AB29,AF29,AJ29,AN29,AR29,AV29,AZ29,BD29,BH29,BL29,BP29)} -> 2 | BR29: {=AVERAGE(F29,J29,N29,R29,V29,Z29,AD29,AH29,AL29,AP29,AT29,AX29,BB29,BF29,BJ29,BN29)} -> 20.808
A30: {=ROW(A2)} -> 2 | B30: Kinsleigh | C30: Hopper | D30: {=SUM(G30,K30,O30,S30,W30,AA30,AE30,AI30,AM30,AQ30,AU30,AY30,BC30,BG30,BK30,BO30,BQ30)} -> 19 | F30: 24.223 | G30: 7 | H30: 1 | J30: 18.496 | K30: 10 | L30: 1 | BQ30: {=SUM(H30,L30,P30,T30,X30,AB30,AF30,AJ30,AN30,AR30,AV30,AZ30,BD30,BH30,BL30,BP30)} -> 2 | BR30: {=AVERAGE(F30,J30,N30,R30,V30,Z30,AD30,AH30,AL30,AP30,AT30,AX30,BB30,BF30,BJ30,BN30)} -> 21.3595
A31: {=ROW(A3)} -> 3 | B31: Slayten | C31: Twisdale | D31: {=SUM(G31,K31,O31,S31,W31,AA31,AE31,AI31,AM31,AQ31,AU31,AY31,BC31,BG31,BK31,BO31,BQ31)} -> 19 | F31: 22.498 | G31: 8 | H31: 1 | J31: 20.708 | K31: 9 | L31: 1 | BQ31: {=SUM(H31,L31,P31,T31,X31,AB31,AF31,AJ31,AN31,AR31,AV31,AZ31,BD31,BH31,BL31,BP31)} -> 2 | BR31: {=AVERAGE(F31,J31,N31,R31,V31,Z31,AD31,AH31,AL31,AP31,AT31,AX31,BB31,BF31,BJ31,BN31)} -> 21.603
A32: {=ROW(A4)} -> 4 | B32: Halle Pete | C32: Rinehart | D32: {=SUM(G32,K32,O32,S32,W32,AA32,AE32,AI32,AM32,AQ32,AU32,AY32,BC32,BG32,BK32,BO32,BQ32)} -> 12 | F32: 17.703 | G32: 10 | H32: 1 | J32: NT | K32: 0 | L32: 1 | BQ32: {=SUM(H32,L32,P32,T32,X32,AB32,AF32,AJ32,AN32,AR32,AV32,AZ32,BD32,BH32,BL32,BP32)} -> 2 | BR32: {=AVERAGE(F32,J32,N32,R32,V32,Z32,AD32,AH32,AL32,AP32,AT32,AX32,BB32,BF32,BJ32,BN32)} -> 17.703
A33: {=ROW(A5)} -> 5 | D33: {=SUM(G33,K33,O33,S33,W33,AA33,AE33,AI33,AM33,AQ33,AU33,AY33,BC33,BG33,BK33,BO33,BQ33)} -> 0 | BQ33: {=SUM(H33,L33,P33,T33,X33,AB33,AF33,AJ33,AN33,AR33,AV33,AZ33,BD33,BH33,BL33,BP33)} -> 0 | BR33: {=AVERAGE(F33,J33,N33,R33,V33,Z33,AD33,AH33,AL33,AP33,AT33,AX33,BB33,BF33,BJ33,BN33)} -> #DIV/0!
A34: EVENT TOTALS | D34: {=SUM(D29:D33)} -> 69 | G34: {=SUM(G29:G33)} -> 34 | H34: {=SUM(H29:H33)} -> 4 | K34: {=SUM(K29:K33)} -> 27 | L34: {=SUM(L29:L33)} -> 4 | O34: {=SUM(O29:O33)} -> 0 | P34: {=SUM(P29:P33)} -> 0 | S34: {=SUM(S29:S33)} -> 0 | T34: {=SUM(T29:T33)} -> 0 | W34: {=SUM(W29:W33)} -> 0 | X34: {=SUM(X29:X33)} -> 0 | AA34: {=SUM(AA29:AA33)} -> 0 | AB34: {=SUM(AB29:AB33)} -> 0 | AE34: {=SUM(AE29:AE33)} -> 0 | AF34: {=SUM(AF29:AF33)} -> 0 | AI34: {=SUM(AI29:AI33)} -> 0 | AJ34: {=SUM(AJ29:AJ33)} -> 0 | AM34: {=SUM(AM29:AM33)} -> 0 | AN34: {=SUM(AN29:AN33)} -> 0 | AQ34: {=SUM(AQ29:AQ33)} -> 0 | AR34: {=SUM(AR29:AR33)} -> 0 | AU34: {=SUM(AU29:AU33)} -> 0 | AV34: {=SUM(AV29:AV33)} -> 0 | AY34: {=SUM(AY29:AY33)} -> 0 | AZ34: {=SUM(AZ29:AZ33)} -> 0 | BC34: {=SUM(BC29:BC33)} -> 0 | BD34: {=SUM(BD29:BD33)} -> 0 | BG34: {=SUM(BG29:BG33)} -> 0 | BH34: {=SUM(BH29:BH33)} -> 0 | BK34: {=SUM(BK29:BK33)} -> 0 | BL34: {=SUM(BL29:BL33)} -> 0 | BO34: {=SUM(BO29:BO33)} -> 0 | BP34: {=SUM(BP29:BP33)} -> 0
A36: Pole Bending | F36: TIME | G36: EVENT POINTS | H36: PP | J36: TIME | K36: EVENT POINTS | L36: PP | N36: TIME | O36: EVENT POINTS | P36: PP | R36: TIME | S36: EVENT POINTS | T36: PP | V36: TIME | W36: EVENT POINTS | X36: PP | Z36: TIME | AA36: EVENT POINTS | AB36: PP | AD36: TIME | AE36: EVENT POINTS | AF36: PP | AH36: TIME | AI36: EVENT POINTS | AJ36: PP | AL36: TIME | AM36: EVENT POINTS | AN36: PP | AP36: TIME | AQ36: EVENT POINTS | AR36: PP | AT36: TIME | AU36: EVENT POINTS | AV36: PP | AX36: TIME | AY36: EVENT POINTS | AZ36: PP | BB36: TIME | BC36: EVENT POINTS | BD36: PP | BF36: TIME | BG36: EVENT POINTS | BH36: PP | BJ36: TIME | BK36: EVENT POINTS | BL36: PP | BN36: TIME | BO36: EVENT POINTS | BP36: PP
A37: {=ROW(A1)} -> 1 | B37: Slayten | C37: Twisdale | D37: {=SUM(G37,K37,O37,S37,W37,AA37,AE37,AI37,AM37,AQ37,AU37,AY37,BC37,BG37,BK37,BO37,BQ37)} -> 21 | F37: 23.953 | G37: 9 | H37: 1 | J37: 24.455 | K37: 10 | L37: 1 | BQ37: {=SUM(H37,L37,P37,T37,X37,AB37,AF37,AJ37,AN37,AR37,AV37,AZ37,BD37,BH37,BL37,BP37)} -> 2 | BR37: {=AVERAGE(F37,J37,N37,R37,V37,Z37,AD37,AH37,AL37,AP37,AT37,AX37,BB37,BF37,BJ37,BN37)} -> 24.204
A38: {=ROW(A2)} -> 2 | B38: Halle Pete | C38: Rinehart | D38: {=SUM(G38,K38,O38,S38,W38,AA38,AE38,AI38,AM38,AQ38,AU38,AY38,BC38,BG38,BK38,BO38,BQ38)} -> 21 | F38: 22.795 | G38: 10 | H38: 1 | J38: 33.166 | K38: 9 | L38: 1 | BQ38: {=SUM(H38,L38,P38,T38,X38,AB38,AF38,AJ38,AN38,AR38,AV38,AZ38,BD38,BH38,BL38,BP38)} -> 2 | BR38: {=AVERAGE(F38,J38,N38,R38,V38,Z38,AD38,AH38,AL38,AP38,AT38,AX38,BB38,BF38,BJ38,BN38)} -> 27.9805
A39: {=ROW(A3)} -> 3 | B39: Charlee Kayte | C39: Smith | D39: {=SUM(G39,K39,O39,S39,W39,AA39,AE39,AI39,AM39,AQ39,AU39,AY39,BC39,BG39,BK39,BO39,BQ39)} -> 2 | F39: NT | G39: 0 | H39: 1 | J39: NT | K39: 0 | L39: 1 | BQ39: {=SUM(H39,L39,P39,T39,X39,AB39,AF39,AJ39,AN39,AR39,AV39,AZ39,BD39,BH39,BL39,BP39)} -> 2 | BR39: {=AVERAGE(F39,J39,N39,R39,V39,Z39,AD39,AH39,AL39,AP39,AT39,AX39,BB39,BF39,BJ39,BN39)} -> #DIV/0!
A40: {=ROW(A4)} -> 4 | D40: {=SUM(G40,K40,O40,S40,W40,AA40,AE40,AI40,AM40,AQ40,AU40,AY40,BC40,BG40,BK40,BO40,BQ40)} -> 0 | BQ40: {=SUM(H40,L40,P40,T40,X40,AB40,AF40,AJ40,AN40,AR40,AV40,AZ40,BD40,BH40,BL40,BP40)} -> 0 | BR40: {=AVERAGE(F40,J40,N40,R40,V40,Z40,AD40,AH40,AL40,AP40,AT40,AX40,BB40,BF40,BJ40,BN40)} -> #DIV/0!
A41: EVENT TOTALS | D41: {=SUM(D37:D40)} -> 44 | G41: {=SUM(G37:G40)} -> 19 | H41: {=SUM(H37:H40)} -> 3 | K41: {=SUM(K37:K40)} -> 19 | L41: {=SUM(L37:L40)} -> 3 | O41: {=SUM(O37:O40)} -> 0 | P41: {=SUM(P37:P40)} -> 0 | S41: {=SUM(S37:S40)} -> 0 | T41: {=SUM(T37:T40)} -> 0 | W41: {=SUM(W37:W40)} -> 0 | X41: {=SUM(X37:X40)} -> 0 | AA41: {=SUM(AA37:AA40)} -> 0 | AB41: {=SUM(AB37:AB40)} -> 0 | AE41: {=SUM(AE37:AE40)} -> 0 | AF41: {=SUM(AF37:AF40)} -> 0 | AI41: {=SUM(AI37:AI40)} -> 0 | AJ41: {=SUM(AJ37:AJ40)} -> 0 | AM41: {=SUM(AM37:AM40)} -> 0 | AN41: {=SUM(AN37:AN40)} -> 0 | AQ41: {=SUM(AQ37:AQ40)} -> 0 | AR41: {=SUM(AR37:AR40)} -> 0 | AU41: {=SUM(AU37:AU40)} -> 0 | AV41: {=SUM(AV37:AV40)} -> 0 | AY41: {=SUM(AY37:AY40)} -> 0 | AZ41: {=SUM(AZ37:AZ40)} -> 0 | BC41: {=SUM(BC37:BC40)} -> 0 | BD41: {=SUM(BD37:BD40)} -> 0 | BG41: {=SUM(BG37:BG40)} -> 0 | BH41: {=SUM(BH37:BH40)} -> 0 | BK41: {=SUM(BK37:BK40)} -> 0 | BL41: {=SUM(BL37:BL40)} -> 0 | BO41: {=SUM(BO37:BO40)} -> 0 | BP41: {=SUM(BP37:BP40)} -> 0
A43: Team Roping | F43: TIME | G43: EVENT POINTS | H43: PP | J43: TIME | K43: EVENT POINTS | L43: PP | N43: TIME | O43: EVENT POINTS | P43: PP | R43: TIME | S43: EVENT POINTS | T43: PP | V43: TIME | W43: EVENT POINTS | X43: PP | Z43: TIME | AA43: EVENT POINTS | AB43: PP | AD43: TIME | AE43: EVENT POINTS | AF43: PP | AH43: TIME | AI43: EVENT POINTS | AJ43: PP | AL43: TIME | AM43: EVENT POINTS | AN43: PP | AP43: TIME | AQ43: EVENT POINTS | AR43: PP | AT43: TIME | AU43: EVENT POINTS | AV43: PP | AX43: TIME | AY43: EVENT POINTS | AZ43: PP | BB43: TIME | BC43: EVENT POINTS | BD43: PP | BF43: TIME | BG43: EVENT POINTS | BH43: PP | BJ43: TIME | BK43: EVENT POINTS | BL43: PP | BN43: TIME | BO43: EVENT POINTS | BP43: PP
D44: {=SUM(W44,AA44,AE44,AI44,AM44,AQ44,AU44,AY44,BC44,BG44,BK44,BO44,BQ44)} -> 0 | BQ44: {=SUM(H44,L44,P44,T44,X44,AB44,AF44,AJ44,AN44,AR44,AV44,AZ44,BD44,BH44,BL44,BP44)} -> 0 | BR44: {=AVERAGE(F44,J44,N44,R44,V44,Z44,AD44,AH44,AL44,AP44,AT44,AX44,BB44,BF44,BJ44,BN44)} -> #DIV/0!
A45: EVENT TOTALS | D45: {=SUM(D44)} -> 0
A47: Girls Goat Tying | F47: TIME | G47: EVENT POINTS | H47: PP | J47: TIME | K47: EVENT POINTS | L47: PP | N47: TIME | O47: EVENT POINTS | P47: PP | R47: TIME | S47: EVENT POINTS | T47: PP | V47: TIME | W47: EVENT POINTS | X47: PP | Z47: TIME | AA47: EVENT POINTS | AB47: PP | AD47: TIME | AE47: EVENT POINTS | AF47: PP | AH47: TIME | AI47: EVENT POINTS | AJ47: PP | AL47: TIME | AM47: EVENT POINTS | AN47: PP | AP47: TIME | AQ47: EVENT POINTS | AR47: PP | AT47: TIME | AU47: EVENT POINTS | AV47: PP | AX47: TIME | AY47: EVENT POINTS | AZ47: PP | BB47: TIME | BC47: EVENT POINTS | BD47: PP | BF47: TIME | BG47: EVENT POINTS | BH47: PP | BJ47: TIME | BK47: EVENT POINTS | BL47: PP | BN47: TIME | BO47: EVENT POINTS | BP47: PP
...

Sheet K-4 AA
A1: K-4 | D1: Total Points
F2: Halls, TN | I2: Halls, TN | L2: PPP | O2: PPP | R2: HS, MS | U2: HS, MS | X2: Mason, TN | AA2: Mason, TN | AD2: PPP | AG2: PPP | AJ2: PPP | AM2: PPP
F3: 8/8/2026 AM | I3: 8/8/2026 PM | L3: 9/10/23 AM | O3: 9/10/23 PM | R3: 10/28/2023 AM | U3: 10/28/2023 PM | X3: 11/18/2023 AM | AA3: 11/18/2023 AM | AD3: 02/19/2024 AM | AG3: 02/19/2024 PM | AJ3: 03/02/2024 AM | AM3: 03/02/2024 PM
A5: Girls All Around | F5: TOTAL POINTS | I5: TOTAL POINTS | L5: TOTAL POINTS | O5: TOTAL POINTS | R5: TOTAL POINTS | U5: TOTAL POINTS | X5: TOTAL POINTS | AA5: TOTAL POINTS | AD5: TOTAL POINTS | AG5: TOTAL POINTS | AJ5: TOTAL POINTS | AM5: TOTAL POINTS
A6: {=ROW(A1)} -> 1 | B6: Slayten | C6: Twisdale | D6: {=SUM(F6,I6,L6,O6,R6,U6,X6,AA6,AD6,AG6,AJ6,AM6)} -> 60 | F6: 29 | I6: 31
A7: {=ROW(A2)} -> 2 | B7: Halle Pete | C7: Rinehart | D7: {=SUM(F7,I7,L7,O7,R7,U7,X7,AA7,AD7,AG7,AJ7,AM7)} -> 55 | F7: 33 | I7: 22
A8: {=ROW(A3)} -> 3 | B8: Charlee Kayte | C8: Smith | D8: {=SUM(F8,I8,L8,O8,R8,U8,X8,AA8,AD8,AG8,AJ8,AM8)} -> 39 | F8: 20 | I8: 19
A9: {=ROW(A4)} -> 4 | B9: Kinsleigh | C9: Hopper | D9: {=SUM(F9,I9,L9,O9,R9,U9,X9,AA9,AD9,AG9,AJ9,AM9)} -> 19 | F9: 8 | I9: 11
A10: {=ROW(A5)} -> 5 | D10: {=SUM(F10,I10,L10,O10,R10,U10,X10,AA10,AD10,AG10,AJ10,AM10)} -> 0
A11: EVENT TOTALS | D11: {=SUM(D6:D10)} -> 173 | F11: =SUM(F6:F10) -> 90 | I11: {=SUM(I6:I10)} -> 83 | L11: {=SUM(L6:L10)} -> 0 | O11: {=SUM(O6:O10)} -> 0 | R11: {=SUM(R6:R10)} -> 0 | U11: {=SUM(U6:U10)} -> 0 | X11: {=SUM(X6:X10)} -> 0 | AA11: {=SUM(AA6:AA10)} -> 0 | AD11: {=SUM(AD6:AD10)} -> 0 | AG11: {=SUM(AG6:AG10)} -> 0 | AJ11: {=SUM(AJ6:AJ10)} -> 0 | AM11: {=SUM(AM6:AM10)} -> 0
A14: Boys All Around | F14: TOTAL POINTS | I14: TOTAL POINTS | L14: TOTAL POINTS | O14: TOTAL POINTS | R14: TOTAL POINTS | U14: TOTAL POINTS | X14: TOTAL POINTS | AA14: TOTAL POINTS | AD14: TOTAL POINTS | AG14: TOTAL POINTS | AJ14: TOTAL POINTS | AM14: TOTAL POINTS
A15: {=ROW(A1)} -> 1 | B15: Gus | C15: Moore | D15: {=SUM(F15,I15,L15,O15,R15,U15,X15,AA15,AD15,AG15,AJ15,AM15)} -> 59 | F15: 25 | I15: 34
A16: {=ROW(A2)} -> 2 | B16: Conner | C16: Smith | D16: {=SUM(F16,I16,L16,O16,R16,U16,X16,AA16,AD16,AG16,AJ16,AM16)} -> 19 | F16: 5 | I16: 14
A17: {=ROW(A3)} -> 3 | B17: Easton | C17: Sanders | D17: {=SUM(F17,I17,L17,O17,R17,U17,X17,AA17,AD17,AG17,AJ17,AM17)} -> 12 | F17: 1 | I17: 11
A18: {=ROW(A4)} -> 4 | B18: Cullen | C18: Clouse | D18: {=SUM(F18,I18,L18,O18,R18,U18,X18,AA18,AD18,AG18,AJ18,AM18)} -> 2 | F18: 1 | I18: 1
B19: Kix | C19: Ross | D19: {=SUM(F19,I19,L19,O19,R19,U19,X19,AA19,AD19,AG19,AJ19,AM19)} -> 2 | F19: 1 | I19: 1
A20: EVENT TOTALS | D20: {=SUM(D15:D19)} -> 94 | F20: =SUM(F15:F19) -> 33 | I20: {=SUM(I15:I19)} -> 61 | L20: {=SUM(L15:L19)} -> 0 | O20: {=SUM(O15:O19)} -> 0 | R20: {=SUM(R15:R19)} -> 0 | U20: {=SUM(U15:U19)} -> 0 | X20: {=SUM(X15:X19)} -> 0 | AA20: {=SUM(AA15:AA19)} -> 0 | AD20: {=SUM(AD15:AD19)} -> 0 | AG20: {=SUM(AG15:AG19)} -> 0 | AJ20: {=SUM(AJ15:AJ19)} -> 0 | AM20: {=SUM(AM15:AM19)} -> 0
A21: TOTAL | D21: {=SUM(D20,D11)} -> 267 | F21: {=SUM(F11,F20)} -> 123 | I21: {=SUM(I11,I20)} -> 144 | L21: {=SUM(L11,L20)} -> 0 | O21: {=SUM(O11,O20)} -> 0 | R21: {=SUM(R11,R20)} -> 0 | U21: {=SUM(U11,U20)} -> 0 | X21: {=SUM(X11,X20)} -> 0 | AA21: {=SUM(AA11,AA20)} -> 0 | AD21: {=SUM(AD11,AD20)} -> 0 | AG21: {=SUM(AG11,AG20)} -> 0 | AJ21: {=SUM(AJ11,AJ20)} -> 0 | AM21: {=SUM(AM11,AM20)} -> 0

Sheet 5-8
A1: 5-8 | D1: Total Points
F2: Halls, TN | J2: Halls, TN | N2: Decaturville, TN | R2: Decaturville, TN | V2: Holly Springs, MS | Z2: Holly Springs, MS | AD2: Mason, TN | AH2: Mason, TN | AL2: Decaturville, TN | AP2: Decaturville, TN | AT2: Decaturville, TN | AX2: Decaturville, TN | BB2: Guys, TN | BF2: Guys, TN | BJ2: Selmer, TN | BN2: Selmer, TN | BQ2: # of
F3: 8/8/2026 AM | J3: 8/8/2026 PM | N3: 9/10/2023 AM | R3: 9/10/2023 PM | V3: 10/28/2023 AM | Z3: 10/28/2023 PM | AD3: 11/18/2023 AM | AH3: 11/18/2023 PM | AL3: 02/19/2024 AM | AP3: 02/19/2024 PM | AT3: 03/02/2024 AM | AX3: 03/02/2024 PM | BQ3: Rodeos | BS3: Avg
BQ4: Entered | BS4: Time
A5: Steer Bareback Riding | F5: SCORE | G5: EVENT POINTS | H5: PP | J5: SCORE | K5: EVENT POINTS | L5: PP | N5: SCORE | O5: EVENT POINTS | P5: PP | R5: SCORE | S5: EVENT POINTS | T5: PP | V5: SCORE | W5: EVENT POINTS | X5: PP | Z5: SCORE | AA5: EVENT POINTS | AB5: PP | AD5: SCORE | AE5: EVENT POINTS | AF5: PP | AH5: SCORE | AI5: EVENT POINTS | AJ5: PP | AL5: SCORE | AM5: EVENT POINTS | AN5: PP | AP5: SCORE | AQ5: EVENT POINTS | AR5: PP | AT5: SCORE | AU5: EVENT POINTS | AV5: PP | AX5: SCORE | AY5: EVENT POINTS | AZ5: PP | BB5: SCORE | BC5: EVENT POINTS | BD5: PP | BF5: SCORE | BG5: EVENT POINTS | BH5: PP | BJ5: SCORE | BK5: EVENT POINTS | BL5: PP | BN5: SCORE | BO5: EVENT POINTS | BP5: PP
A6: {=ROW(A1)} -> 1 | D6: {=SUM(G6,K6,O6,S6,W6,AA6,AE6,AI6,AM6,AQ6,AU6,AY6,BC6,BG6,BK6,BO6,BQ6)} -> 0 | BQ6: {=SUM(H6,L6,P6,T6,X6,AB6,AF6,AJ6,AN6,AR6,AV6,AZ6,BD6,BH6,BL6,BP6)} -> 0
A7: {=ROW(A2)} -> 2 | D7: {=SUM(G7,K7,O7,S7,W7,AA7,AE7,AI7,AM7,AQ7,AU7,AY7,BC7,BG7,BK7,BO7,BQ7)} -> 0 | BQ7: {=SUM(H7,L7,P7,T7,X7,AB7,AF7,AJ7,AN7,AR7,AV7,AZ7,BD7,BH7,BL7,BP7)} -> 0
A8: EVENT TOTALS | D8: {=SUM(D6:D7)} -> 0 | G8: {=SUM(G6:G7)} -> 0 | H8: {=SUM(H6:H7)} -> 0 | K8: {=SUM(K6:K7)} -> 0 | L8: {=SUM(L6:L7)} -> 0 | O8: {=SUM(O6:O7)} -> 0 | P8: {=SUM(P6:P7)} -> 0 | S8: {=SUM(S6:S7)} -> 0 | T8: {=SUM(T6:T7)} -> 0 | W8: {=SUM(W6:W7)} -> 0 | X8: {=SUM(X6:X7)} -> 0 | AA8: {=SUM(AA6:AA7)} -> 0 | AB8: {=SUM(AB6:AB7)} -> 0 | AE8: {=SUM(AE6:AE7)} -> 0 | AF8: {=SUM(AF6:AF7)} -> 0 | AI8: {=SUM(AI6:AI7)} -> 0 | AJ8: {=SUM(AJ6:AJ7)} -> 0 | AM8: {=SUM(AM6:AM7)} -> 0 | AN8: {=SUM(AN6:AN7)} -> 0 | AQ8: {=SUM(AQ6:AQ7)} -> 0 | AR8: {=SUM(AR6:AR7)} -> 0 | AU8: {=SUM(AU6:AU7)} -> 0 | AV8: {=SUM(AV6:AV7)} -> 0 | AY8: {=SUM(AY6:AY7)} -> 0 | AZ8: {=SUM(AZ6:AZ7)} -> 0 | BC8: {=SUM(BC6:BC7)} -> 0 | BD8: {=SUM(BD6:BD7)} -> 0 | BG8: {=SUM(BG6:BG7)} -> 0 | BH8: {=SUM(BH6:BH7)} -> 0 | BK8: {=SUM(BK6:BK7)} -> 0 | BL8: {=SUM(BL6:BL7)} -> 0 | BO8: {=SUM(BO6:BO7)} -> 0 | BP8: {=SUM(BP6:BP7)} -> 0 | BQ8: {=SUM(H8,L8,P8,T8,X8,AB8,AF8,AJ8,AN8,AR8,AV8,AZ8,BD8,BH8,BL8,BP8)} -> 0
BQ9: {=SUM(H9,L9,P9,T9,X9,AB9,AF9,AJ9,AN9,AR9,AV9,AZ9,BD9,BH9,BL9,BP9)} -> 0
A10: Girls Breakaway Roping | F10: TIME | G10: EVENT POINTS | H10: PP | J10: TIME | K10: EVENT POINTS | L10: PP | N10: TIME | O10: EVENT POINTS | P10: PP | R10: TIME | S10: EVENT POINTS | T10: PP | V10: TIME | W10: EVENT POINTS | X10: PP | Z10: TIME | AA10: EVENT POINTS | AB10: PP | AD10: TIME | AE10: EVENT POINTS | AF10: PP | AH10: TIME | AI10: EVENT POINTS | AJ10: PP | AL10: TIME | AM10: EVENT POINTS | AN10: PP | AP10: TIME | AQ10: EVENT POINTS | AR10: PP | AT10: TIME | AU10: EVENT POINTS | AV10: PP | AX10: TIME | AY10: EVENT POINTS | AZ10: PP | BB10: TIME | BC10: EVENT POINTS | BD10: PP | BF10: TIME | BG10: EVENT POINTS | BH10: PP | BJ10: TIME | BK10: EVENT POINTS | BL10: PP | BN10: TIME | BO10: EVENT POINTS | BP10: PP | BQ10: {=SUM(H10,L10,P10,T10,X10,AB10,AF10,AJ10,AN10,AR10,AV10,AZ10,BD10,BH10,BL10,BP10)} -> 0
A11: {=ROW(A1)} -> 1 | B11: Gracie Layne | C11: Draffin | D11: {=SUM(G11,K11,O11,S11,W11,AA11,AE11,AI11,AM11,AQ11,AU11,AY11,BC11,BG11,BK11,BO11,BQ11)} -> 12 | F11: 5.87 | G11: 10 | H11: 1 | J11: 0 | K11: 0 | L11: 1 | BQ11: {=SUM(H11,L11,P11,T11,X11,AB11,AF11,AJ11,AN11,AR11,AV11,AZ11,BD11,BH11,BL11,BP11)} -> 2 | BS11: {=AVERAGE(F11,J11,N11,R11,V11,Z11,AD11,AH11,AL11,AP11,AT11,AX11,BB11,BF11,BJ11,BN11)} -> 5.87
A12: {=ROW(A2)} -> 2 | B12: Fisher Ann | C12: Rinehart | D12: {=SUM(G12,K12,O12,S12,W12,AA12,AE12,AI12,AM12,AQ12,AU12,AY12,BC12,BG12,BK12,BO12,BQ12)} -> 2 | F12: 0 | G12: 0 | H12: 1 | J12: 0 | K12: 0 | L12: 1 | BQ12: {=SUM(H12,L12,P12,T12,X12,AB12,AF12,AJ12,AN12,AR12,AV12,AZ12,BD12,BH12,BL12,BP12)} -> 2 | BS12: {=AVERAGE(F12,J12,N12,R12,V12,Z12,AD12,AH12,AL12,AP12,AT12,AX12,BB12,BF12,BJ12,BN12)} -> 0
A13: {=ROW(A3)} -> 3 | B13: Harper | C13: Butler | D13: {=SUM(G13,K13,O13,S13,W13,AA13,AE13,AI13,AM13,AQ13,AU13,AY13,BC13,BG13,BK13,BO13,BQ13)} -> 2 | F13: 0 | G13: 0 | H13: 1 | J13: 0 | K13: 0 | L13: 1 | BQ13: {=SUM(H13,L13,P13,T13,X13,AB13,AF13,AJ13,AN13,AR13,AV13,AZ13,BD13,BH13,BL13,BP13)} -> 2 | BS13: {=AVERAGE(F13,J13,N13,R13,V13,Z13,AD13,AH13,AL13,AP13,AT13,AX13,BB13,BF13,BJ13,BN13)} -> 0
A14: {=ROW(A4)} -> 4 | B14: Kori Jane | C14: Moore | D14: {=SUM(G14,K14,O14,S14,W14,AA14,AE14,AI14,AM14,AQ14,AU14,AY14,BC14,BG14,BK14,BO14,BQ14)} -> 2 | F14: 0 | G14: 0 | H14: 1 | J14: 0 | K14: 0 | L14: 1 | BQ14: {=SUM(H14,L14,P14,T14,X14,AB14,AF14,AJ14,AN14,AR14,AV14,AZ14,BD14,BH14,BL14,BP14)} -> 2 | BS14: {=AVERAGE(F14,J14,N14,R14,V14,Z14,AD14,AH14,AL14,AP14,AT14,AX14,BB14,BF14,BJ14,BN14)} -> 0
A15: {=ROW(A5)} -> 5 | B15: Maddie Rose | C15: Locke | D15: {=SUM(G15,K15,O15,S15,W15,AA15,AE15,AI15,AM15,AQ15,AU15,AY15,BC15,BG15,BK15,BO15,BQ15)} -> 2 | F15: 0 | G15: 0 | H15: 1 | J15: 0 | K15: 0 | L15: 1 | BQ15: {=SUM(H15,L15,P15,T15,X15,AB15,AF15,AJ15,AN15,AR15,AV15,AZ15,BD15,BH15,BL15,BP15)} -> 2 | BS15: {=AVERAGE(F15,J15,N15,R15,V15,Z15,AD15,AH15,AL15,AP15,AT15,AX15,BB15,BF15,BJ15,BN15)} -> 0
A16: {=ROW(A6)} -> 6 | B16: Layney | C16: Butler | D16: {=SUM(G16,K16,O16,S16,W16,AA16,AE16,AI16,AM16,AQ16,AU16,AY16,BC16,BG16,BK16,BO16,BQ16)} -> 2 | F16: 0 | G16: 0 | H16: 1 | J16: 0 | K16: 0 | L16: 1 | BQ16: {=SUM(H16,L16,P16,T16,X16,AB16,AF16,AJ16,AN16,AR16,AV16,AZ16,BD16,BH16,BL16,BP16)} -> 2 | BS16: {=AVERAGE(F16,J16,N16,R16,V16,Z16,AD16,AH16,AL16,AP16,AT16,AX16,BB16,BF16,BJ16,BN16)} -> 0
A17: {=ROW(A7)} -> 7 | B17: Lane | C17: Clouse | D17: {=SUM(G17,K17,O17,S17,W17,AA17,AE17,AI17,AM17,AQ17,AU17,AY17,BC17,BG17,BK17,BO17,BQ17)} -> 2 | F17: 0 | G17: 0 | H17: 1 | J17: 0 | K17: 0 | L17: 1 | BQ17: {=SUM(H17,L17,P17,T17,X17,AB17,AF17,AJ17,AN17,AR17,AV17,AZ17,BD17,BH17,BL17,BP17)} -> 2 | BS17: {=AVERAGE(F17,J17,N17,R17,V17,Z17,AD17,AH17,AL17,AP17,AT17,AX17,BB17,BF17,BJ17,BN17)} -> 0
A18: EVENT TOTALS | D18: =SUM(D11:D17) -> 24 | G18: {=SUM(G11:G17)} -> 10 | H18: =SUM(H11:H17) -> 7 | K18: =SUM(K11:K17) -> 0 | L18: =SUM(L11:L17) -> 7 | O18: {=SUM(O11:O16)} -> 0 | P18: {=SUM(P11:P16)} -> 0 | S18: {=SUM(S11:S16)} -> 0 | T18: {=SUM(T11:T16)} -> 0 | W18: {=SUM(W11:W16)} -> 0 | X18: {=SUM(X11:X16)} -> 0 | AA18: {=SUM(AA11:AA16)} -> 0 | AB18: {=SUM(AB11:AB16)} -> 0 | AE18: {=SUM(AE11:AE16)} -> 0 | AF18: {=SUM(AF11:AF16)} -> 0 | AI18: {=SUM(AI11:AI16)} -> 0 | AJ18: {=SUM(AJ11:AJ16)} -> 0 | AM18: {=SUM(AM11:AM16)} -> 0 | AN18: {=SUM(AN11:AN16)} -> 0 | AQ18: {=SUM(AQ11:AQ16)} -> 0 | AR18: {=SUM(AR11:AR16)} -> 0 | AU18: {=SUM(AU11:AU16)} -> 0 | AV18: {=SUM(AV11:AV16)} -> 0 | AY18: {=SUM(AY11:AY16)} -> 0 | AZ18: {=SUM(AZ11:AZ16)} -> 0 | BC18: {=SUM(BC11:BC16)} -> 0 | BD18: {=SUM(BD11:BD16)} -> 0 | BG18: {=SUM(BG11:BG16)} -> 0 | BH18: {=SUM(BH11:BH16)} -> 0 | BK18: {=SUM(BK11:BK16)} -> 0 | BL18: {=SUM(BL11:BL16)} -> 0 | BO18: {=SUM(BO11:BO16)} -> 0 | BP18: {=SUM(BP11:BP16)} -> 0
A20: Boys Breakaway Roping | F20: TIME | G20: EVENT POINTS | H20: PP | J20: TIME | K20: EVENT POINTS | L20: PP | N20: TIME | O20: EVENT POINTS | P20: PP | R20: TIME | S20: EVENT POINTS | T20: PP | V20: TIME | W20: EVENT POINTS | X20: PP | Z20: TIME | AA20: EVENT POINTS | AB20: PP | AD20: TIME | AE20: EVENT POINTS | AF20: PP | AH20: TIME | AI20: EVENT POINTS | AJ20: PP | AL20: TIME | AM20: EVENT POINTS | AN20: PP | AP20: TIME | AQ20: EVENT POINTS | AR20: PP | AT20: TIME | AU20: EVENT POINTS | AV20: PP | AX20: TIME | AY20: EVENT POINTS | AZ20: PP | BB20: TIME | BC20: EVENT POINTS | BD20: PP | BF20: TIME | BG20: EVENT POINTS | BH20: PP | BJ20: TIME | BK20: EVENT POINTS | BL20: PP | BN20: TIME | BO20: EVENT POINTS | BP20: PP
A21: {=ROW(A1)} -> 1 | B21: Jase | C21: Lepard | D21: {=SUM(G21,K21,O21,S21,W21,AA21,AE21,AI21,AM21,AQ21,AU21,AY21,BC21,BG21,BK21,BO21,BQ21)} -> 2 | F21: 0 | G21: 0 | H21: 1 | J21: 0 | K21: 0 | L21: 1 | BQ21: {=SUM(H21,L21,P21,T21,X21,AB21,AF21,AJ21,AN21,AR21,AV21,AZ21,BD21,BH21,BL21,BP21)} -> 2 | BS21: {=AVERAGE(F21,J21,N21,R21,V21,Z21,AD21,AH21,AL21,AP21,AT21,AX21,BB21,BF21,BJ21,BN21)} -> 0
A22: {=ROW(A2)} -> 2 | B22: Ryder | C22: Millington | D22: {=SUM(G22,K22,O22,S22,W22,AA22,AE22,AI22,AM22,AQ22,AU22,AY22,BC22,BG22,BK22,BO22,BQ22)} -> 2 | F22: 0 | G22: 0 | H22: 1 | J22: 0 | K22: 0 | L22: 1 | BQ22: {=SUM(H22,L22,P22,T22,X22,AB22,AF22,AJ22,AN22,AR22,AV22,AZ22,BD22,BH22,BL22,BP22)} -> 2 | BS22: {=AVERAGE(F22,J22,N22,R22,V22,Z22,AD22,AH22,AL22,AP22,AT22,AX22,BB22,BF22,BJ22,BN22)} -> 0
BQ23: {=SUM(H23,L23,P23,T23,X23,AB23,AF23,AJ23,AN23,AR23,AV23,AZ23,BD23,BH23,BL23,BP23)} -> 0 | BS23: {=AVERAGE(F23,J23,N23,R23,V23,Z23,AD23,AH23,AL23,AP23,AT23,AX23,BB23,BF23,BJ23,BN23)} -> #DIV/0!
A24: EVENT TOTALS | D24: {=SUM(D21:D23)} -> 4 | G24: {=SUM(G21:G23)} -> 0 | H24: {=SUM(H21:H23)} -> 2 | K24: {=SUM(K21:K23)} -> 0 | L24: {=SUM(L21:L23)} -> 2 | O24: {=SUM(O21:O23)} -> 0 | P24: {=SUM(P21:P23)} -> 0 | S24: {=SUM(S21:S23)} -> 0 | T24: {=SUM(T21:T23)} -> 0 | W24: {=SUM(W21:W23)} -> 0 | X24: {=SUM(X21:X23)} -> 0 | AA24: {=SUM(AA21:AA23)} -> 0 | AB24: {=SUM(AB21:AB23)} -> 0 | AE24: {=SUM(AE21:AE23)} -> 0 | AF24: {=SUM(AF21:AF23)} -> 0 | AI24: {=SUM(AI21:AI23)} -> 0 | AJ24: {=SUM(AJ21:AJ23)} -> 0 | AM24: {=SUM(AM21:AM23)} -> 0 | AN24: {=SUM(AN21:AN23)} -> 0 | AQ24: {=SUM(AQ21:AQ23)} -> 0 | AR24: {=SUM(AR21:AR23)} -> 0 | AU24: {=SUM(AU21:AU23)} -> 0 | AV24: {=SUM(AV21:AV23)} -> 0 | AY24: {=SUM(AY21:AY23)} -> 0 | AZ24: {=SUM(AZ21:AZ23)} -> 0 | BC24: {=SUM(BC21:BC23)} -> 0 | BD24: {=SUM(BD21:BD23)} -> 0 | BG24: {=SUM(BG21:BG23)} -> 0 | BH24: {=SUM(BH21:BH23)} -> 0 | BK24: {=SUM(BK21:BK23)} -> 0 | BL24: {=SUM(BL21:BL23)} -> 0 | BO24: {=SUM(BO21:BO23)} -> 0 | BP24: {=SUM(BP21:BP23)} -> 0
A26: Chute Dogging | F26: TIME | G26: EVENT POINTS | H26: PP | J26: TIME | K26: EVENT POINTS | L26: PP | N26: TIME | O26: EVENT POINTS | P26: PP | R26: TIME | S26: EVENT POINTS | T26: PP | V26: TIME | W26: EVENT POINTS | X26: PP | Z26: TIME | AA26: EVENT POINTS | AB26: PP | AD26: TIME | AE26: EVENT POINTS | AF26: PP | AH26: TIME | AI26: EVENT POINTS | AJ26: PP | AL26: TIME | AM26: EVENT POINTS | AN26: PP | AP26: TIME | AQ26: EVENT POINTS | AR26: PP | AT26: TIME | AU26: EVENT POINTS | AV26: PP | AX26: TIME | AY26: EVENT POINTS | AZ26: PP | BB26: TIME | BC26: EVENT POINTS | BD26: PP | BF26: TIME | BG26: EVENT POINTS | BH26: PP | BJ26: TIME | BK26: EVENT POINTS | BL26: PP | BN26: TIME | BO26: EVENT POINTS | BP26: PP
A27: {=ROW(A1)} -> 1 | B27: Ryder | C27: Millington | D27: {=SUM(G27,K27,O27,S27,W27,AA27,AE27,AI27,AM27,AQ27,AU27,AY27,BC27,BG27,BK27,BO27,BQ27)} -> 20 | F27: 4.81 | G27: 10 | H27: 1 | J27: 10.030 | K27: 8 | L27: 1 | BQ27: {=SUM(H27,L27,P27,T27,X27,AB27,AF27,AJ27,AN27,AR27,AV27,AZ27,BD27,BH27,BL27,BP27)} -> 2 | BS27: {=AVERAGE(F27,J27,N27,R27,V27,Z27,AD27,AH27,AL27,AP27,AT27,AX27,BB27,BF27,BJ27,BN27)} -> 4.81
A28: {=ROW(A2)} -> 2 | B28: Jase | C28: Lepard | D28: {=SUM(G28,K28,O28,S28,W28,AA28,AE28,AI28,AM28,AQ28,AU28,AY28,BC28,BG28,BK28,BO28,BQ28)} -> 11 | F28: 0 | G28: 0 | H28: 1 | J28: 8.03 | K28: 9 | L28: 1 | BQ28: {=SUM(H28,L28,P28,T28,X28,AB28,AF28,AJ28,AN28,AR28,AV28,AZ28,BD28,BH28,BL28,BP28)} -> 2 | BS28: {=AVERAGE(F28,J28,N28,R28,V28,Z28,AD28,AH28,AL28,AP28,AT28,AX28,BB28,BF28,BJ28,BN28)} -> 4.015
A29: 3 | B29: Houston | C29: Dean | D29: {=G29+H29+K29+L29} -> 11 | J29: 4.680 | K29: 10 | L29: 1 | BQ29: {=SUM(H29,L29,P29,T29,X29,AB29,AF29,AJ29,AN29,AR29,AV29,AZ29,BD29,BH29,BL29,BP29)} -> 1 | BS29: {=AVERAGE(F29,J29,N29,R29,V29,Z29,AD29,AH29,AL29,AP29,AT29,AX29,BB29,BF29,BJ29,BN29)} -> #DIV/0!
A30: EVENT TOTALS | D30: =SUM(D27:D29) -> 42 | G30: {=SUM(G27:G29)} -> 10 | H30: {=SUM(H27:H29)} -> 2 | K30: {=SUM(K27:K29)} -> 27 | L30: {=SUM(L27:L29)} -> 3 | O30: {=SUM(O27:O29)} -> 0 | P30: {=SUM(P27:P29)} -> 0 | S30: {=SUM(S27:S29)} -> 0 | T30: {=SUM(T27:T29)} -> 0 | W30: {=SUM(W27:W29)} -> 0 | X30: {=SUM(X27:X29)} -> 0 | AA30: {=SUM(AA27:AA29)} -> 0 | AB30: {=SUM(AB27:AB29)} -> 0 | AE30: {=SUM(AE27:AE29)} -> 0 | AF30: {=SUM(AF27:AF29)} -> 0 | AI30: {=SUM(AI27:AI29)} -> 0 | AJ30: {=SUM(AJ27:AJ29)} -> 0 | AM30: {=SUM(AM27:AM29)} -> 0 | AN30: {=SUM(AN27:AN29)} -> 0 | AQ30: {=SUM(AQ27:AQ29)} -> 0 | AR30: {=SUM(AR27:AR29)} -> 0 | AU30: {=SUM(AU27:AU29)} -> 0 | AV30: {=SUM(AV27:AV29)} -> 0 | AY30: {=SUM(AY27:AY29)} -> 0 | AZ30: {=SUM(AZ27:AZ29)} -> 0 | BC30: {=SUM(BC27:BC29)} -> 0 | BD30: {=SUM(BD27:BD29)} -> 0 | BG30: {=SUM(BG27:BG29)} -> 0 | BH30: {=SUM(BH27:BH29)} -> 0 | BK30: {=SUM(BK27:BK29)} -> 0 | BL30: {=SUM(BL27:BL29)} -> 0 | BO30: {=SUM(BO27:BO29)} -> 0 | BP30: {=SUM(BP27:BP29)} -> 0
A32: Barrel Racing | F32: TIME | G32: EVENT POINTS | H32: PP | J32: TIME | K32: EVENT POINTS | L32: PP | N32: TIME | O32: EVENT POINTS | P32: PP | R32: TIME | S32: EVENT POINTS | T32: PP | V32: TIME | W32: EVENT POINTS | X32: PP | Z32: TIME | AA32: EVENT POINTS | AB32: PP | AD32: TIME | AE32: EVENT POINTS | AF32: PP | AH32: TIME | AI32: EVENT POINTS | AJ32: PP | AL32: TIME | AM32: EVENT POINTS | AN32: PP | AP32: TIME | AQ32: EVENT POINTS | AR32: PP | AT32: TIME | AU32: EVENT POINTS | AV32: PP | AX32: TIME | AY32: EVENT POINTS | AZ32: PP | BB32: TIME | BC32: EVENT POINTS | BD32: PP | BF32: TIME | BG32: EVENT POINTS | BH32: PP | BJ32: TIME | BK32: EVENT POINTS | BL32: PP | BN32: TIME | BO32: EVENT POINTS | BP32: PP
A33: {=ROW(A1)} -> 1 | B33: Sterling | C33: Twisdale | D33: {=SUM(G33,K33,O33,S33,W33,AA33,AE33,AI33,AM33,AQ33,AU33,AY33,BC33,BG33,BK33,BO33,BQ33)} -> 22 | F33: 16.647 | G33: 10 | H33: 1 | J33: 16.714 | K33: 10 | L33: 1 | BQ33: {=SUM(H33,L33,P33,T33,X33,AB33,AF33,AJ33,AN33,AR33,AV33,AZ33,BD33,BH33,BL33,BP33)} -> 2 | BS33: {=AVERAGE(F33,J33,N33,R33,V33,Z33,AD33,AH33,AL33,AP33,AT33,AX33,BB33,BF33,BJ33,BN33)} -> 16.647
A34: {=ROW(A2)} -> 2 | B34: Fisher Ann | C34: Rinehart | D34: {=SUM(G34,K34,O34,S34,W34,AA34,AE34,AI34,AM34,AQ34,AU34,AY34,BC34,BG34,BK34,BO34,BQ34)} -> 18 | F34: 16.915 | G34: 9 | H34: 1 | J34: 17.507 | K34: 7 | L34: 1 | BQ34: {=SUM(H34,L34,P34,T34,X34,AB34,AF34,AJ34,AN34,AR34,AV34,AZ34,BD34,BH34,BL34,BP34)} -> 2 | BS34: {=AVERAGE(F34,J34,N34,R34,V34,Z34,AD34,AH34,AL34,AP34,AT34,AX34,BB34,BF34,BJ34,BN34)} -> 16.915
A35: {=ROW(A3)} -> 3 | B35: Lane | C35: Clouse | D35: {=SUM(G35,K35,O35,S35,W35,AA35,AE35,AI35,AM35,AQ35,AU35,AY35,BC35,BG35,BK35,BO35,BQ35)} -> 16 | F35: 17.065 | G35: 8 | H35: 1 | J35: 17.586 | K35: 6 | L35: 1 | BQ35: {=SUM(H35,L35,P35,T35,X35,AB35,AF35,AJ35,AN35,AR35,AV35,AZ35,BD35,BH35,BL35,BP35)} -> 2 | BS35: {=AVERAGE(F35,J35,N35,R35,V35,Z35,AD35,AH35,AL35,AP35,AT35,AX35,BB35,BF35,BJ35,BN35)} -> 17.065
A36: {=ROW(A4)} -> 4 | B36: Kori Jane | C36: Moore | D36: {=SUM(G36,K36,O36,S36,W36,AA36,AE36,AI36,AM36,AQ36,AU36,AY36,BC36,BG36,BK36,BO36,BQ36)} -> 15 | F36: 17.306 | G36: 5 | H36: 1 | J36: 17.489 | K36: 8 | L36: 1 | BQ36: {=SUM(H36,L36,P36,T36,X36,AB36,AF36,AJ36,AN36,AR36,AV36,AZ36,BD36,BH36,BL36,BP36)} -> 2 | BS36: {=AVERAGE(F36,J36,N36,R36,V36,Z36,AD36,AH36,AL36,AP36,AT36,AX36,BB36,BF36,BJ36,BN36)} -> 17.306
A37: {=ROW(A5)} -> 5 | B37: Macee | C37: Ponds | D37: {=SUM(G37,K37,O37,S37,W37,AA37,AE37,AI37,AM37,AQ37,AU37,AY37,BC37,BG37,BK37,BO37,BQ37)} -> 13 | F37: 17.212 | G37: 7 | H37: 1 | J37: 18.054 | K37: 4 | L37: 1 | BQ37: {=SUM(H37,L37,P37,T37,X37,AB37,AF37,AJ37,AN37,AR37,AV37,AZ37,BD37,BH37,BL37,BP37)} -> 2 | BS37: {=AVERAGE(F37,J37,N37,R37,V37,Z37,AD37,AH37,AL37,AP37,AT37,AX37,BB37,BF37,BJ37,BN37)} -> 17.212
A38: {=ROW(A6)} -> 6 | B38: Harper | C38: Butler | D38: {=SUM(G38,K38,O38,S38,W38,AA38,AE38,AI38,AM38,AQ38,AU38,AY38,BC38,BG38,BK38,BO38,BQ38)} -> 13 | F38: 17.229 | G38: 6 | H38: 1 | J38: 17.841 | K38: 5 | L38: 1 | BQ38: {=SUM(H38,L38,P38,T38,X38,AB38,AF38,AJ38,AN38,AR38,AV38,AZ38,BD38,BH38,BL38,BP38)} -> 2 | BS38: {=AVERAGE(F38,J38,N38,R38,V38,Z38,AD38,AH38,AL38,AP38,AT38,AX38,BB38,BF38,BJ38,BN38)} -> 17.229
A39: {=ROW(A7)} -> 7 | B39: Piper | C39: Massey | D39: {=SUM(G39,K39,O39,S39,W39,AA39,AE39,AI39,AM39,AQ39,AU39,AY39,BC39,BG39,BK39,BO39,BQ39)} -> 12 | F39: 22.158 | G39: 1 | H39: 1 | J39: 17.272 | K39: 9 | L39: 1 | BQ39: {=SUM(H39,L39,P39,T39,X39,AB39,AF39,AJ39,AN39,AR39,AV39,AZ39,BD39,BH39,BL39,BP39)} -> 2 | BS39: {=AVERAGE(F39,J39,N39,R39,V39,Z39,AD39,AH39,AL39,AP39,AT39,AX39,BB39,BF39,BJ39,BN39)} -> 22.158
A40: {=ROW(A8)} -> 8 | B40: Gracie Layne | C40: Draffin | D40: {=SUM(G40,K40,O40,S40,W40,AA40,AE40,AI40,AM40,AQ40,AU40,AY40,BC40,BG40,BK40,BO40,BQ40)} -> 8 | F40: 17.503 | G40: 3 | H40: 1 | J40: 18.245 | K40: 3 | L40: 1 | BQ40: {=SUM(H40,L40,P40,T40,X40,AB40,AF40,AJ40,AN40,AR40,AV40,AZ40,BD40,BH40,BL40,BP40)} -> 2 | BS40: {=AVERAGE(F40,J40,N40,R40,V40,Z40,AD40,AH40,AL40,AP40,AT40,AX40,BB40,BF40,BJ40,BN40)} -> 17.874
A41: {=ROW(A9)} -> 9 | B41: Maddie Rose | C41: Locke | D41: {=SUM(G41,K41,O41,S41,W41,AA41,AE41,AI41,AM41,AQ41,AU41,AY41,BC41,BG41,BK41,BO41,BQ41)} -> 6 | F41: 17.323 | G41: 4 | H41: 1 | J41: 22.032 | K41: 0 | L41: 1 | BQ41: {=SUM(H41,L41,P41,T41,X41,AB41,AF41,AJ41,AN41,AR41,AV41,AZ41,BD41,BH41,BL41,BP41)} -> 2 | BS41: {=AVERAGE(F41,J41,N41,R41,V41,Z41,AD41,AH41,AL41,AP41,AT41,AX41,BB41,BF41,BJ41,BN41)} -> 17.323
A42: {=ROW(A10)} -> 10 | B42: Addy | C42: McKinnis | D42: {=SUM(G42,K42,O42,S42,W42,AA42,AE42,AI42,AM42,AQ42,AU42,AY42,BC42,BG42,BK42,BO42,BQ42)} -> 5 | F42: 18.365 | G42: 2 | H42: 1 | J42: 19.085 | K42: 1 | L42: 1 | BQ42: {=SUM(H42,L42,P42,T42,X42,AB42,AF42,AJ42,AN42,AR42,AV42,AZ42,BD42,BH42,BL42,BP42)} -> 2 | BS42: {=AVERAGE(F42,J42,N42,R42,V42,Z42,AD42,AH42,AL42,AP42,AT42,AX42,BB42,BF42,BJ42,BN42)} -> 18.365
A43: {=ROW(A11)} -> 11 | B43: Kennedy | C43: Hastings | D43: {=SUM(G43,K43,O43,S43,W43,AA43,AE43,AI43,AM43,AQ43,AU43,AY43,BC43,BG43,BK43,BO43,BQ43)} -> 4 | F43: 22.82 | G43: 0 | H43: 1 | J43: 18.424 | K43: 2 | L43: 1 | BQ43: {=SUM(H43,L43,P43,T43,X43,AB43,AF43,AJ43,AN43,AR43,AV43,AZ43,BD43,BH43,BL43,BP43)} -> 2 | BS43: {=AVERAGE(F43,J43,N43,R43,V43,Z43,AD43,AH43,AL43,AP43,AT43,AX43,BB43,BF43,BJ43,BN43)} -> 22.82
...

Sheet 5-8 AA 
A1: 5-8 | D1: Total Points
F2: Halls, TN | I2: Halls, TN | L2: PPP | O2: PPP | R2: HS, TN | U2: HS, TN | X2: Mason, TN | AA2: Mason, TN | AD2: PPP | AG2: PPP | AJ2: PPP | AM2: PPP | AP2: Guys, TN | AS2: Guys, TN | AV2: Selmer, TN | AY2: Selmer, TN
F3: 8/8/2026 AM | I3: 8/8/2026 PM | L3: 9/10/23 AM | O3: 9/10/23 PM | R3: 10/28/2023 AM | U3: 10/28/2023 PM | X3: 11/18/2023 AM | AA3: 11/18/2023 PM | AD3: 02/19/2024 AM | AG3: 02/19/2024 PM | AJ3: 03/02/2024 AM | AM3: 03/02/2024 PM | AP3: 04/06/2024 AM | AS3: 04/06/2024 PM
A5: Girls All Around | F5: TOTAL POINTS | I5: TOTAL POINTS | L5: TOTAL POINTS | O5: TOTAL POINTS | R5: TOTAL POINTS | U5: TOTAL POINTS | X5: TOTAL POINTS | AA5: TOTAL POINTS | AD5: TOTAL POINTS | AG5: TOTAL POINTS | AJ5: TOTAL POINTS | AM5: TOTAL POINTS | AP5: TOTAL POINTS | AS5: TOTAL POINTS | AV5: TOTAL POINTS | AY5: TOTAL POINTS
A6: {=ROW(A1)} -> 1 | B6: Fisher Ann | C6: Rinehart | D6: {=SUM(F6,I6,L6,O6,R6:U6,X6,AA6,AD6,AG6,AJ6,AM6,AP6,AS6,AV6,AY6)} -> 62 | F6: 33 | I6: 29
A7: {=ROW(A2)} -> 2 | B7: Lane | C7: Clouse | D7: {=SUM(F7,I7,L7,O7,R7:U7,X7,AA7,AD7,AG7,AJ7,AM7,AP7,AS7,AV7,AY7)} -> 50 | F7: 23 | I7: 27
A8: {=ROW(A3)} -> 3 | B8: Harper | C8: Butler | D8: {=SUM(F8,I8,L8,O8,R8:U8,X8,AA8,AD8,AG8,AJ8,AM8,AP8,AS8,AV8,AY8)} -> 47 | F8: 21 | I8: 26
A9: {=ROW(A4)} -> 4 | B9: Sterling | C9: Twisdale | D9: {=SUM(F9,I9,L9,O9,R9:U9,X9,AA9,AD9,AG9,AJ9,AM9,AP9,AS9,AV9,AY9)} -> 45 | F9: 21 | I9: 24
A10: {=ROW(A5)} -> 5 | B10: Maddie Rose | C10: Locke | D10: {=SUM(F10,I10,L10,O10,R10:U10,X10,AA10,AD10,AG10,AJ10,AM10,AP10,AS10,AV10,AY10)} -> 41 | F10: 25 | I10: 16
A11: {=ROW(A6)} -> 6 | B11: Gracie Layne | C11: Draffin | D11: {=SUM(F11,I11,L11,O11,R11:U11,X11,AA11,AD11,AG11,AJ11,AM11,AP11,AS11,AV11,AY11)} -> 31 | F11: 19 | I11: 12
A12: {=ROW(A7)} -> 7 | B12: Kori Jane | C12: Moore | D12: {=SUM(F12,I12,L12,O12,R12:U12,X12,AA12,AD12,AG12,AJ12,AM12,AP12,AS12,AV12,AY12)} -> 30 | F12: 17 | I12: 13
A13: {=ROW(A8)} -> 8 | B13: Layney | C13: Butler | D13: {=SUM(F13,I13,L13,O13,R13:U13,X13,AA13,AD13,AG13,AJ13,AM13,AP13,AS13,AV13,AY13)} -> 29 | F13: 17 | I13: 12
A14: {=ROW(A9)} -> 9 | B14: Kennedy | C14: Hastings | D14: {=SUM(F14,I14,L14,O14,R14:U14,X14,AA14,AD14,AG14,AJ14,AM14,AP14,AS14,AV14,AY14)} -> 19 | F14: 7 | I14: 12
A15: {=ROW(A10)} -> 10 | B15: Addy | C15: McKinnis | D15: {=SUM(F15,I15,L15,O15,R15:U15,X15,AA15,AD15,AG15,AJ15,AM15,AP15,AS15,AV15,AY15)} -> 17 | F15: 10 | I15: 7
A16: {=ROW(A11)} -> 11 | B16: Macee | C16: Ponds | D16: {=SUM(F16,I16,L16,O16,R16:U16,X16,AA16,AD16,AG16,AJ16,AM16,AP16,AS16,AV16,AY16)} -> 13 | F16: 8 | I16: 5
A17: {=ROW(A12)} -> 12 | B17: Piper | C17: Massey | D17: {=SUM(F17,I17,L17,O17,R17:U17,X17,AA17,AD17,AG17,AJ17,AM17,AP17,AS17,AV17,AY17)} -> 12 | F17: 2 | I17: 10
A18: {=ROW(A13)} -> 13 | B18: Adilyn | C18: Brown | D18: {=SUM(F18,I18,L18,O18,R18:U18,X18,AA18,AD18,AG18,AJ18,AM18,AP18,AS18,AV18,AY18)} -> 2 | F18: 1 | I18: 1
A19: {=ROW(A14)} -> 14 | D19: {=SUM(F19,I19,L19,O19,R19:U19,X19,AA19,AD19,AG19,AJ19,AM19,AP19,AS19,AV19,AY19)} -> 0
A20: EVENT TOTALS | D20: {=SUM(D6:D19)} -> 398 | F20: {=SUM(F6:F19)} -> 204 | I20: =SUM(I6:I19) -> 194 | L20: {=SUM(L6:L19)} -> 0 | O20: {=SUM(O6:O19)} -> 0 | R20: {=SUM(R6:R19)} -> 0 | U20: {=SUM(U6:U19)} -> 0 | X20: {=SUM(X6:X19)} -> 0 | AA20: {=SUM(AA6:AA19)} -> 0 | AD20: {=SUM(AD6:AD19)} -> 0 | AG20: {=SUM(AG6:AG19)} -> 0 | AJ20: {=SUM(AJ6:AJ19)} -> 0 | AM20: {=SUM(AM6:AM19)} -> 0 | AP20: {=SUM(AP6:AP19)} -> 0 | AS20: {=SUM(AS6:AS19)} -> 0 | AV20: {=SUM(AV6:AV19)} -> 0 | AY20: {=SUM(AY6:AY19)} -> 0
A23: Boys All Around | F23: TOTAL POINTS | I23: TOTAL POINTS | L23: TOTAL POINTS | O23: TOTAL POINTS | R23: TOTAL POINTS | U23: TOTAL POINTS | X23: TOTAL POINTS | AA23: TOTAL POINTS | AD23: TOTAL POINTS | AG23: TOTAL POINTS | AJ23: TOTAL POINTS | AM23: TOTAL POINTS | AP23: TOTAL POINTS | AS23: TOTAL POINTS | AV23: TOTAL POINTS | AY23: TOTAL POINTS
A24: {=ROW(A1)} -> 1 | B24: Ryder | C24: Millington | D24: {=SUM(F24,I24,L24,O24,R24:U24,X24,AA24,AD24,AG24,AJ24,AM24,AP24,AS24,AV24,AY24)} -> 55 | F24: 23 | I24: 32
A25: {=ROW(A2)} -> 2 | B25: Jase | C25: Lepard | D25: {=SUM(F25,I25,L25,O25,R25:U25,X25,AA25,AD25,AG25,AJ25,AM25,AP25,AS25,AV25,AY25)} -> 46 | F25: 14 | I25: 32
A26: {=ROW(A3)} -> 3 | B26: Battle | C26: Hamrick | D26: {=SUM(F26,I26,L26,O26,R26:U26,X26,AA26,AD26,AG26,AJ26,AM26,AP26,AS26,AV26,AY26)} -> 12 | F26: 1 | I26: 11
A27: {=ROW(A4)} -> 4 | B27: Houston | C27: Dean | D27: {=SUM(F27,I27,L27,O27,R27:U27,X27,AA27,AD27,AG27,AJ27,AM27,AP27,AS27,AV27,AY27)} -> 11 | F27: 0 | I27: 11
A28: {=ROW(A6)} -> 6 | B28: LB | C28: Friskillo | D28: {=SUM(F28,I28,L28,O28,R28:U28,X28,AA28,AD28,AG28,AJ28,AM28,AP28,AS28,AV28,AY28)} -> 2 | F28: 1 | I28: 1
A29: {=ROW(A7)} -> 7 | D29: {=SUM(F29,I29,L29,O29,R29:U29,X29,AA29,AD29,AG29,AJ29,AM29,AP29,AS29,AV29,AY29)} -> 0
A30: EVENT TOTALS | D30: {=SUM(D24:D29)} -> 126 | F30: {=SUM(F24:F29)} -> 39 | I30: =SUM(I24:I29) -> 87 | L30: {=SUM(L24:L29)} -> 0 | O30: {=SUM(O24:O29)} -> 0 | R30: {=SUM(R24:R29)} -> 0 | U30: {=SUM(U24:U29)} -> 0 | X30: {=SUM(X24:X29)} -> 0 | AA30: {=SUM(AA24:AA29)} -> 0 | AD30: {=SUM(AD24:AD29)} -> 0 | AG30: {=SUM(AG24:AG29)} -> 0 | AJ30: {=SUM(AJ24:AJ29)} -> 0 | AM30: {=SUM(AM24:AM29)} -> 0 | AP30: {=SUM(AP24:AP29)} -> 0 | AS30: {=SUM(AS24:AS29)} -> 0 | AV30: {=SUM(AV24:AV29)} -> 0 | AY30: {=SUM(AY24:AY29)} -> 0
A31: TOTAL | D31: {=SUM(D20,D30)} -> 524 | F31: {=SUM(F20,F30)} -> 243 | I31: =SUM(I20,I30) -> 281 | L31: {=SUM(L20,L30)} -> 0 | O31: {=SUM(O20,O30)} -> 0 | R31: {=SUM(R20,R30)} -> 0 | U31: {=SUM(U20,U30)} -> 0 | X31: {=SUM(X20,X30)} -> 0 | AA31: {=SUM(AA20,AA30)} -> 0 | AD31: {=SUM(AD20,AD30)} -> 0 | AG31: {=SUM(AG20,AG30)} -> 0 | AJ31: {=SUM(AJ20,AJ30)} -> 0 | AM31: {=SUM(AM20,AM30)} -> 0 | AP31: {=SUM(AP20,AP30)} -> 0 | AS31: {=SUM(AS20,AS30)} -> 0 | AV31: {=SUM(AV20,AV30)} -> 0 | AY31: {=SUM(AY20,AY30)} -> 0
